BEGIN:VCALENDAR
VERSION:2.0
PRODID:-//Jodlerklub Flüehblüemli Sangernboden - ECPv5.12.3//NONSGML v1.0//EN
CALSCALE:GREGORIAN
METHOD:PUBLISH
X-WR-CALNAME:Jodlerklub Flüehblüemli Sangernboden
X-ORIGINAL-URL:https://fluehbluemli-sangernboden.ch
X-WR-CALDESC:Events for Jodlerklub Flüehblüemli Sangernboden
REFRESH-INTERVAL;VALUE=DURATION:PT1H
X-Robots-Tag:noindex
X-PUBLISHED-TTL:PT1H
BEGIN:VTIMEZONE
TZID:Europe/Zurich
BEGIN:DAYLIGHT
TZOFFSETFROM:+0100
TZOFFSETTO:+0200
TZNAME:CEST
DTSTART:20260329T010000
END:DAYLIGHT
BEGIN:STANDARD
TZOFFSETFROM:+0200
TZOFFSETTO:+0100
TZNAME:CET
DTSTART:20261025T010000
END:STANDARD
END:VTIMEZONE
BEGIN:VEVENT
DTSTART;VALUE=DATE:20260719
DTEND;VALUE=DATE:20260720
DTSTAMP:20260421T132712
CREATED:20260213T080248Z
LAST-MODIFIED:20260213T080248Z
UID:29350-1784419200-1784505599@fluehbluemli-sangernboden.ch
SUMMARY:Schönebodenfest
DESCRIPTION:Flyer folgt…
URL:https://fluehbluemli-sangernboden.ch/event/schoenebodenfest/
LOCATION:Schönenboden\, Schönenboden\, Sangernboden\, 1738\, Schweiz
END:VEVENT
BEGIN:VEVENT
DTSTART;VALUE=DATE:20260808
DTEND;VALUE=DATE:20260809
DTSTAMP:20260421T132712
CREATED:20260213T080400Z
LAST-MODIFIED:20260213T080400Z
UID:29352-1786147200-1786233599@fluehbluemli-sangernboden.ch
SUMMARY:Jodlerreise
DESCRIPTION:Organisiert durch den 1. Bass
URL:https://fluehbluemli-sangernboden.ch/event/jodlerreise-4/
END:VEVENT
BEGIN:VEVENT
DTSTART;TZID=Europe/Zurich:20260830T090000
DTEND;TZID=Europe/Zurich:20260830T113000
DTSTAMP:20260421T132712
CREATED:20260213T080459Z
LAST-MODIFIED:20260213T080459Z
UID:29354-1788080400-1788089400@fluehbluemli-sangernboden.ch
SUMMARY:Singen Kirche Sangernboden
DESCRIPTION:
URL:https://fluehbluemli-sangernboden.ch/event/singen-kirche-sangernboden/
LOCATION:Kirche Sangernboden\, 1716\, Switzerland
END:VEVENT
BEGIN:VEVENT
DTSTART;VALUE=DATE:20260903
DTEND;VALUE=DATE:20260904
DTSTAMP:20260421T132712
CREATED:20260213T080554Z
LAST-MODIFIED:20260213T080554Z
UID:29356-1788393600-1788479999@fluehbluemli-sangernboden.ch
SUMMARY:Schafscheide Riffenmatt
DESCRIPTION:Barschicht in der Vereinsbar
URL:https://fluehbluemli-sangernboden.ch/event/schafscheide-riffenmatt/
END:VEVENT
BEGIN:VEVENT
DTSTART;TZID=Europe/Zurich:20261120T190000
DTEND;TZID=Europe/Zurich:20261120T233000
DTSTAMP:20260421T132712
CREATED:20260213T080724Z
LAST-MODIFIED:20260213T080724Z
UID:29358-1795201200-1795217400@fluehbluemli-sangernboden.ch
SUMMARY:Helfer- Schlussabend
DESCRIPTION:
URL:https://fluehbluemli-sangernboden.ch/event/helfer-schlussabend/
END:VEVENT
END:VCALENDAR